BEGIN:VCALENDAR
VERSION:2.0
PRODID:-//Kirche des Fliegenden Spaghettimonsters Deutschland - ECPv6.15.20//NONSGML v1.0//EN
CALSCALE:GREGORIAN
METHOD:PUBLISH
X-ORIGINAL-URL:https://www.pastafari.eu
X-WR-CALDESC:Veranstaltungen für Kirche des Fliegenden Spaghettimonsters Deutschland
REFRESH-INTERVAL;VALUE=DURATION:PT1H
X-Robots-Tag:noindex
X-PUBLISHED-TTL:PT1H
BEGIN:VTIMEZONE
TZID:Europe/Berlin
BEGIN:DAYLIGHT
TZOFFSETFROM:+0100
TZOFFSETTO:+0200
TZNAME:CEST
DTSTART:20230326T010000
END:DAYLIGHT
BEGIN:STANDARD
TZOFFSETFROM:+0200
TZOFFSETTO:+0100
TZNAME:CET
DTSTART:20231029T010000
END:STANDARD
BEGIN:DAYLIGHT
TZOFFSETFROM:+0100
TZOFFSETTO:+0200
TZNAME:CEST
DTSTART:20240331T010000
END:DAYLIGHT
BEGIN:STANDARD
TZOFFSETFROM:+0200
TZOFFSETTO:+0100
TZNAME:CET
DTSTART:20241027T010000
END:STANDARD
BEGIN:DAYLIGHT
TZOFFSETFROM:+0100
TZOFFSETTO:+0200
TZNAME:CEST
DTSTART:20250330T010000
END:DAYLIGHT
BEGIN:STANDARD
TZOFFSETFROM:+0200
TZOFFSETTO:+0100
TZNAME:CET
DTSTART:20251026T010000
END:STANDARD
END:VTIMEZONE
BEGIN:VEVENT
DTSTART;VALUE=DATE:20240927
DTEND;VALUE=DATE:20240930
DTSTAMP:20260420T024145
CREATED:20240326T200832Z
LAST-MODIFIED:20240901T163447Z
UID:7341-1727395200-1727654399@www.pastafari.eu
SUMMARY:Jahrestreffen der Kirche des FSM Deutschland e.V.
DESCRIPTION:Pastafaritreffen vom 27. bis 29. September in Plön\nMotto: …wirkt nicht über den Placeboeffekt hinaus\nVom  27.09. – 29.09.2024 findet in Plön\, im Saal des TSV Plön unser nächstes Pastafaritreffen statt. \nWir gehen davon aus\, dass – weil wir viele sein werden – unsere Piratenoutfits uns verregnete Tage bescheren werden. Gut so. Dann feiern wir drinnen!\nBei karibischem Sonnenschein jedoch haben wir die Möglichkeit unter freiem Himmel Nudelmessen und wilde Piratentänze zu zelebrieren. \nUnser Programm\n\n\n\nFreitag\, 27.09.: \n\nAnkunft und Vorglühen\nFilm „Das Leben des Brian“\n\nSamstag\, 28.09.: \n\ngemeinsames Frühstück\nProzession/Demo mit Nudelmesse irgendwo an einem besuchermäßig stark frequentierten Ort in Plön\nBuchlesung mit anschließender Diskussion: Hartmut Zinser „Untergang von Religionen und Säkularisierung“\nWir feiern eine Trauung nach pastafarianischem Ritus. Denkt also daran\, Eure Holzbeine und Haken zu polieren für das Säbel- und Nudelholz-Spalier!\nAbendbrot\nwilde Feierei mit Live-Act: „Happy Vaginas“\nMusik\, Diskussionen\, Vernetzungen. Wir werden u.a. berichten was unsere nächsten Vorhaben\, Stichwort: Schülerpreis und Kirchentage.\n\nSonntag\, 29.09.: \n\ngemeinsames Frühstück\nAufräumen und Aufbruch in alle vier Winde…\n\n\n\n\nWir feilen weiter am Programm. Hat noch jemand eine Idee? Immer her\, ans Schwarze Brett damit! \nT-Shirt\nEs wird auch wieder ein Erinnerungs-T-Shirt geben. Tragt die gewünschte Größe mit in das Anmeldeformular ein. \n\n\n\nDenkt bitte daran euch Quartiere zu besorgen! \n\n\n\n\n\n\n\n\nUnkostenbeitrag:\n\n\n\n\nBitte den Unkostenbeitrag von € 10\,- mit dem Betreff “Pastafaritreffen Plön” an:\nKirche des Fliegenden Spaghettimonsters Deutschland e.V.; IBAN: DE06 1509 1704 0120 6889 79 \nBitte meldet euch hier an:\n\n\n  \n\n\n\n Dein bürgerlicher Name (zum Abgleich mit Deiner Überweisung)\n \n \n Dein Pastafari-Name\n \n \n Deine E-Mail-Adresse\n \n \nAnreisetag\n \n \nAbreisetag\n \n \n Personenzahl \n\n \nWir werden wieder coole T-Shirts haben. Bei Interesse\, gib hier bitte die Größe(n) für Dich und Deine Begleitung ein:\n\n \nDeine Nachricht (optional z. B. Namen Eurer Mitanreisenden\, deren T-Shirt Größen\, Nahrungsmittelunverträglichkeiten usw.)\n\n \n Du bist kein Roboter?\n		\n				\n		\n		 \n \n\n	\n	 \nΔ ×
URL:https://www.pastafari.eu/termin/jahrestreffen-der-kirche-des-fsm-deutschland-e-v-2/
LOCATION:Plön\, Bürgermeister-Kinder-Str. 15\, Plön\, 24306\, Deutschland
ORGANIZER;CN="KdFSMD e.V.":MAILTO:info@pastafari.eu
END:VEVENT
END:VCALENDAR