BEGIN:VCALENDAR
VERSION:2.0
PRODID:-//Kirche des Fliegenden Spaghettimonsters Deutschland - ECPv6.15.20//NONSGML v1.0//EN
CALSCALE:GREGORIAN
METHOD:PUBLISH
X-WR-CALNAME:Kirche des Fliegenden Spaghettimonsters Deutschland
X-ORIGINAL-URL:https://www.pastafari.eu
X-WR-CALDESC:Veranstaltungen für Kirche des Fliegenden Spaghettimonsters Deutschland
REFRESH-INTERVAL;VALUE=DURATION:PT1H
X-Robots-Tag:noindex
X-PUBLISHED-TTL:PT1H
BEGIN:VTIMEZONE
TZID:Europe/Berlin
BEGIN:DAYLIGHT
TZOFFSETFROM:+0100
TZOFFSETTO:+0200
TZNAME:CEST
DTSTART:20190331T010000
END:DAYLIGHT
BEGIN:STANDARD
TZOFFSETFROM:+0200
TZOFFSETTO:+0100
TZNAME:CET
DTSTART:20191027T010000
END:STANDARD
BEGIN:DAYLIGHT
TZOFFSETFROM:+0100
TZOFFSETTO:+0200
TZNAME:CEST
DTSTART:20200329T010000
END:DAYLIGHT
BEGIN:STANDARD
TZOFFSETFROM:+0200
TZOFFSETTO:+0100
TZNAME:CET
DTSTART:20201025T010000
END:STANDARD
BEGIN:DAYLIGHT
TZOFFSETFROM:+0100
TZOFFSETTO:+0200
TZNAME:CEST
DTSTART:20210328T010000
END:DAYLIGHT
BEGIN:STANDARD
TZOFFSETFROM:+0200
TZOFFSETTO:+0100
TZNAME:CET
DTSTART:20211031T010000
END:STANDARD
END:VTIMEZONE
BEGIN:VEVENT
DTSTART;VALUE=DATE:20200521
DTEND;VALUE=DATE:20200522
DTSTAMP:20260419T150921
CREATED:20200119T173244Z
LAST-MODIFIED:20200119T173244Z
UID:5281-1590019200-1590105599@www.pastafari.eu
SUMMARY:Piraticus Seefahrt
DESCRIPTION:Neben Monsters Himmelfall feiern manche Pastafari heute auch Piraticus Seefahrt\nBrauchtum: Schon seit langem ist es Tradition\, an diesem Tag einer wesentlichen piratischen Tradition\, der des Biergenusses\, zu folgen. Ganze Heerscharen machen sich auf den Weg um so unbewusst den Biervulkan zu preisen.
URL:https://www.pastafari.eu/termin/piraticus-seefahrt/
CATEGORIES:Feiertag
END:VEVENT
END:VCALENDAR